BEGIN:VCALENDAR
VERSION:2.0
PRODID:-//Pheasant Hollow Wines - ECPv6.15.11//NONSGML v1.0//EN
CALSCALE:GREGORIAN
METHOD:PUBLISH
X-ORIGINAL-URL:https://pheasanthollowwines.com
X-WR-CALDESC:Events for Pheasant Hollow Wines
REFRESH-INTERVAL;VALUE=DURATION:PT1H
X-Robots-Tag:noindex
X-PUBLISHED-TTL:PT1H
BEGIN:VTIMEZONE
TZID:UTC
BEGIN:STANDARD
TZOFFSETFROM:+0000
TZOFFSETTO:+0000
TZNAME:UTC
DTSTART:20250101T000000
END:STANDARD
END:VTIMEZONE
BEGIN:VEVENT
DTSTART;TZID=UTC:20260531T120000
DTEND;TZID=UTC:20260531T180000
DTSTAMP:20260422T010618
CREATED:20260310T190136Z
LAST-MODIFIED:20260310T190136Z
UID:1830-1780228800-1780250400@pheasanthollowwines.com
SUMMARY:No Music
DESCRIPTION:
URL:https://pheasanthollowwines.com/event/no-music/
LOCATION:Pheasant Hollow Winery\, 14931 State Highway 37\, Whittington\, IL\, 62897\, United States
END:VEVENT
BEGIN:VEVENT
DTSTART;TZID=UTC:20260531T120000
DTEND;TZID=UTC:20260531T180000
DTSTAMP:20260422T010618
CREATED:20260310T190225Z
LAST-MODIFIED:20260310T190225Z
UID:1832-1780228800-1780250400@pheasanthollowwines.com
SUMMARY:Prairie Hogs BBQ Food Truck
DESCRIPTION:
URL:https://pheasanthollowwines.com/event/prairie-hogs-bbq-food-truck-4/
LOCATION:Pheasant Hollow Winery\, 14931 State Highway 37\, Whittington\, IL\, 62897\, United States
END:VEVENT
BEGIN:VEVENT
DTSTART;TZID=UTC:20260531T120000
DTEND;TZID=UTC:20260531T180000
DTSTAMP:20260422T010618
CREATED:20260421T165611Z
LAST-MODIFIED:20260421T165611Z
UID:1852-1780228800-1780250400@pheasanthollowwines.com
SUMMARY:No Music
DESCRIPTION:Sorry there will be no music today.
URL:https://pheasanthollowwines.com/event/no-music-2/
LOCATION:Pheasant Hollow Winery\, 14931 State Highway 37\, Whittington\, IL\, 62897\, United States
ORGANIZER;CN="Cassandra Cooley":MAILTO:cassweeksphw@gmail.com
END:VEVENT
BEGIN:VEVENT
DTSTART;TZID=UTC:20260605T160000
DTEND;TZID=UTC:20260605T203000
DTSTAMP:20260422T010618
CREATED:20260421T170032Z
LAST-MODIFIED:20260421T170032Z
UID:1854-1780675200-1780691400@pheasanthollowwines.com
SUMMARY:Chi-Town Pizza & Grub
DESCRIPTION:
URL:https://pheasanthollowwines.com/event/chi-town-pizza-grub-8/
LOCATION:Pheasant Hollow Winery\, 14931 State Highway 37\, Whittington\, IL\, 62897\, United States
END:VEVENT
BEGIN:VEVENT
DTSTART;TZID=UTC:20260606T120000
DTEND;TZID=UTC:20260606T180000
DTSTAMP:20260422T010618
CREATED:20260421T170438Z
LAST-MODIFIED:20260421T170438Z
UID:1856-1780747200-1780768800@pheasanthollowwines.com
SUMMARY:Chi Town Pizza & Grub
DESCRIPTION:
URL:https://pheasanthollowwines.com/event/chi-town-pizza-grub-9/
LOCATION:Pheasant Hollow Winery\, 14931 State Highway 37\, Whittington\, IL\, 62897\, United States
ORGANIZER;CN="Cassandra Cooley":MAILTO:cassweeksphw@gmail.com
END:VEVENT
BEGIN:VEVENT
DTSTART;TZID=UTC:20260607T120000
DTEND;TZID=UTC:20260607T180000
DTSTAMP:20260422T010618
CREATED:20260421T170519Z
LAST-MODIFIED:20260421T170519Z
UID:1859-1780833600-1780855200@pheasanthollowwines.com
SUMMARY:Chi-Town Pizza & Grub
DESCRIPTION:
URL:https://pheasanthollowwines.com/event/chi-town-pizza-grub-10/
LOCATION:Pheasant Hollow Winery\, 14931 State Highway 37\, Whittington\, IL\, 62897\, United States
ORGANIZER;CN="Cassandra Cooley":MAILTO:cassweeksphw@gmail.com
END:VEVENT
BEGIN:VEVENT
DTSTART;TZID=UTC:20260607T140000
DTEND;TZID=UTC:20260607T170000
DTSTAMP:20260422T010618
CREATED:20260421T170610Z
LAST-MODIFIED:20260421T170610Z
UID:1861-1780840800-1780851600@pheasanthollowwines.com
SUMMARY:Live Music with The Dave Caputo Band
DESCRIPTION:
URL:https://pheasanthollowwines.com/event/live-music-with-the-dave-caputo-band/
LOCATION:Pheasant Hollow Winery\, 14931 State Highway 37\, Whittington\, IL\, 62897\, United States
END:VEVENT
BEGIN:VEVENT
DTSTART;TZID=UTC:20260612T160000
DTEND;TZID=UTC:20260612T203000
DTSTAMP:20260422T010618
CREATED:20260421T171128Z
LAST-MODIFIED:20260421T171128Z
UID:1863-1781280000-1781296200@pheasanthollowwines.com
SUMMARY:The Potato Plug
DESCRIPTION:Serving loaded baked potatoes across Southern Illinois.\nFresh • Fast • Flavor-packed
URL:https://pheasanthollowwines.com/event/the-potato-plug/
LOCATION:Pheasant Hollow Winery\, 14931 State Highway 37\, Whittington\, IL\, 62897\, United States
ORGANIZER;CN="Cassandra Cooley":MAILTO:cassweeksphw@gmail.com
END:VEVENT
BEGIN:VEVENT
DTSTART;TZID=UTC:20260612T190000
DTEND;TZID=UTC:20260612T220000
DTSTAMP:20260422T010618
CREATED:20260421T171211Z
LAST-MODIFIED:20260421T171211Z
UID:1866-1781290800-1781301600@pheasanthollowwines.com
SUMMARY:Matt Basler
DESCRIPTION:
URL:https://pheasanthollowwines.com/event/matt-basler/
LOCATION:Pheasant Hollow Winery\, 14931 State Highway 37\, Whittington\, IL\, 62897\, United States
ORGANIZER;CN="Cassandra Cooley":MAILTO:cassweeksphw@gmail.com
END:VEVENT
BEGIN:VEVENT
DTSTART;TZID=UTC:20260619T190000
DTEND;TZID=UTC:20260619T220000
DTSTAMP:20260422T010618
CREATED:20260421T171320Z
LAST-MODIFIED:20260421T171320Z
UID:1868-1781895600-1781906400@pheasanthollowwines.com
SUMMARY:Three's A Crowd
DESCRIPTION:
URL:https://pheasanthollowwines.com/event/threes-a-crowd/
LOCATION:Pheasant Hollow Winery\, 14931 State Highway 37\, Whittington\, IL\, 62897\, United States
ORGANIZER;CN="Cassandra Cooley":MAILTO:cassweeksphw@gmail.com
END:VEVENT
BEGIN:VEVENT
DTSTART;TZID=UTC:20260621T140000
DTEND;TZID=UTC:20260621T170000
DTSTAMP:20260422T010618
CREATED:20260421T171554Z
LAST-MODIFIED:20260421T171554Z
UID:1870-1782050400-1782061200@pheasanthollowwines.com
SUMMARY:Memphis Yahoos
DESCRIPTION:
URL:https://pheasanthollowwines.com/event/memphis-yahoos-2/
LOCATION:Pheasant Hollow Winery\, 14931 State Highway 37\, Whittington\, IL\, 62897\, United States
END:VEVENT
BEGIN:VEVENT
DTSTART;TZID=UTC:20260626T160000
DTEND;TZID=UTC:20260626T203000
DTSTAMP:20260422T010618
CREATED:20260421T171642Z
LAST-MODIFIED:20260421T171642Z
UID:1872-1782489600-1782505800@pheasanthollowwines.com
SUMMARY:Bella's Consession
DESCRIPTION:
URL:https://pheasanthollowwines.com/event/bellas-consession/
LOCATION:Pheasant Hollow Winery\, 14931 State Highway 37\, Whittington\, IL\, 62897\, United States
END:VEVENT
BEGIN:VEVENT
DTSTART;TZID=UTC:20260626T190000
DTEND;TZID=UTC:20260626T220000
DTSTAMP:20260422T010618
CREATED:20260421T171906Z
LAST-MODIFIED:20260421T171906Z
UID:1878-1782500400-1782511200@pheasanthollowwines.com
SUMMARY:Karaoke Night with DJ Dustin
DESCRIPTION:
URL:https://pheasanthollowwines.com/event/karaoke-night-with-dj-dustin-12/
LOCATION:Pheasant Hollow Winery\, 14931 State Highway 37\, Whittington\, IL\, 62897\, United States
ORGANIZER;CN="Cassandra Cooley":MAILTO:cassweeksphw@gmail.com
END:VEVENT
BEGIN:VEVENT
DTSTART;TZID=UTC:20260627T120000
DTEND;TZID=UTC:20260627T180000
DTSTAMP:20260422T010618
CREATED:20260421T171732Z
LAST-MODIFIED:20260421T171732Z
UID:1874-1782561600-1782583200@pheasanthollowwines.com
SUMMARY:Bella's Consession
DESCRIPTION:
URL:https://pheasanthollowwines.com/event/bellas-consession-2/
LOCATION:Pheasant Hollow Winery\, 14931 State Highway 37\, Whittington\, IL\, 62897\, United States
ORGANIZER;CN="Cassandra Cooley":MAILTO:cassweeksphw@gmail.com
END:VEVENT
BEGIN:VEVENT
DTSTART;TZID=UTC:20260628T140000
DTEND;TZID=UTC:20260628T170000
DTSTAMP:20260422T010618
CREATED:20260421T172042Z
LAST-MODIFIED:20260421T172042Z
UID:1880-1782655200-1782666000@pheasanthollowwines.com
SUMMARY:Music with Bryan Foggs Duo
DESCRIPTION:
URL:https://pheasanthollowwines.com/event/music-with-bryan-foggs-duo-6/
LOCATION:Pheasant Hollow Winery\, 14931 State Highway 37\, Whittington\, IL\, 62897\, United States
END:VEVENT
BEGIN:VEVENT
DTSTART;TZID=UTC:20260629T120000
DTEND;TZID=UTC:20260629T180000
DTSTAMP:20260422T010618
CREATED:20260421T171811Z
LAST-MODIFIED:20260421T171811Z
UID:1876-1782734400-1782756000@pheasanthollowwines.com
SUMMARY:Bella's Consession
DESCRIPTION:
URL:https://pheasanthollowwines.com/event/bellas-consession-3/
LOCATION:Pheasant Hollow Winery\, 14931 State Highway 37\, Whittington\, IL\, 62897\, United States
END:VEVENT
BEGIN:VEVENT
DTSTART;TZID=UTC:20260703T160000
DTEND;TZID=UTC:20260703T203000
DTSTAMP:20260422T010618
CREATED:20260421T173657Z
LAST-MODIFIED:20260421T173657Z
UID:1885-1783094400-1783110600@pheasanthollowwines.com
SUMMARY:ROCO'S Pizza
DESCRIPTION:
URL:https://pheasanthollowwines.com/event/rocos-pizza-2/
LOCATION:Pheasant Hollow Winery\, 14931 State Highway 37\, Whittington\, IL\, 62897\, United States
END:VEVENT
BEGIN:VEVENT
DTSTART;TZID=UTC:20260703T190000
DTEND;TZID=UTC:20260703T220000
DTSTAMP:20260422T010618
CREATED:20260421T172900Z
LAST-MODIFIED:20260421T172900Z
UID:1883-1783105200-1783116000@pheasanthollowwines.com
SUMMARY:Music with Logan Chapman
DESCRIPTION:
URL:https://pheasanthollowwines.com/event/music-with-logan-chapman-3/
LOCATION:Pheasant Hollow Winery\, 14931 State Highway 37\, Whittington\, IL\, 62897\, United States
ORGANIZER;CN="Cassandra Cooley":MAILTO:cassweeksphw@gmail.com
END:VEVENT
BEGIN:VEVENT
DTSTART;TZID=UTC:20260704T140000
DTEND;TZID=UTC:20260704T170000
DTSTAMP:20260422T010618
CREATED:20260421T181259Z
LAST-MODIFIED:20260421T181259Z
UID:1887-1783173600-1783184400@pheasanthollowwines.com
SUMMARY:Eastwood & The Prairie Wolves
DESCRIPTION:
URL:https://pheasanthollowwines.com/event/eastwood-the-prairie-wolves/
LOCATION:Pheasant Hollow Winery\, 14931 State Highway 37\, Whittington\, IL\, 62897\, United States
ORGANIZER;CN="Cassandra Cooley":MAILTO:cassweeksphw@gmail.com
END:VEVENT
BEGIN:VEVENT
DTSTART;TZID=UTC:20260705T120000
DTEND;TZID=UTC:20260705T180000
DTSTAMP:20260422T010618
CREATED:20260421T182351Z
LAST-MODIFIED:20260421T182351Z
UID:1893-1783252800-1783274400@pheasanthollowwines.com
SUMMARY:Smack Burger food stand
DESCRIPTION:
URL:https://pheasanthollowwines.com/event/smack-burger-food-stand-3/
LOCATION:Pheasant Hollow Winery\, 14931 State Highway 37\, Whittington\, IL\, 62897\, United States
ORGANIZER;CN="Cassandra Cooley":MAILTO:cassweeksphw@gmail.com
END:VEVENT
BEGIN:VEVENT
DTSTART;TZID=UTC:20260705T140000
DTEND;TZID=UTC:20260705T170000
DTSTAMP:20260422T010618
CREATED:20260421T181833Z
LAST-MODIFIED:20260421T181833Z
UID:1890-1783260000-1783270800@pheasanthollowwines.com
SUMMARY:Nathanael James
DESCRIPTION:
URL:https://pheasanthollowwines.com/event/nathanael-james/
LOCATION:Pheasant Hollow Winery\, 14931 State Highway 37\, Whittington\, IL\, 62897\, United States
END:VEVENT
BEGIN:VEVENT
DTSTART;TZID=UTC:20260710T160000
DTEND;TZID=UTC:20260710T200000
DTSTAMP:20260422T010618
CREATED:20260421T182445Z
LAST-MODIFIED:20260421T182445Z
UID:1896-1783699200-1783713600@pheasanthollowwines.com
SUMMARY:ShellBack BBQ
DESCRIPTION:
URL:https://pheasanthollowwines.com/event/shellback-bbq-2/
LOCATION:Pheasant Hollow Winery\, 14931 State Highway 37\, Whittington\, IL\, 62897\, United States
ORGANIZER;CN="Cassandra Cooley":MAILTO:cassweeksphw@gmail.com
END:VEVENT
BEGIN:VEVENT
DTSTART;TZID=UTC:20260710T190000
DTEND;TZID=UTC:20260710T220000
DTSTAMP:20260422T010618
CREATED:20260421T182904Z
LAST-MODIFIED:20260421T182904Z
UID:1898-1783710000-1783720800@pheasanthollowwines.com
SUMMARY:Live Music with Jonny Coller
DESCRIPTION:
URL:https://pheasanthollowwines.com/event/live-music-with-jonny-coller-5/
LOCATION:Pheasant Hollow Winery\, 14931 State Highway 37\, Whittington\, IL\, 62897\, United States
ORGANIZER;CN="Cassandra Cooley":MAILTO:cassweeksphw@gmail.com
END:VEVENT
END:VCALENDAR