BEGIN:VCALENDAR
VERSION:2.0
PRODID:-//Pheasant Hollow Wines - ECPv6.15.11//NONSGML v1.0//EN
CALSCALE:GREGORIAN
METHOD:PUBLISH
X-WR-CALNAME:Pheasant Hollow Wines
X-ORIGINAL-URL:https://pheasanthollowwines.com
X-WR-CALDESC:Events for Pheasant Hollow Wines
REFRESH-INTERVAL;VALUE=DURATION:PT1H
X-Robots-Tag:noindex
X-PUBLISHED-TTL:PT1H
BEGIN:VTIMEZONE
TZID:UTC
BEGIN:STANDARD
TZOFFSETFROM:+0000
TZOFFSETTO:+0000
TZNAME:UTC
DTSTART:20250101T000000
END:STANDARD
END:VTIMEZONE
BEGIN:VEVENT
DTSTART;TZID=UTC:20260421T180000
DTEND;TZID=UTC:20260421T220000
DTSTAMP:20260423T084351
CREATED:20260421T165512Z
LAST-MODIFIED:20260421T165512Z
UID:1850-1776794400-1776808800@pheasanthollowwines.com
SUMMARY:Closing Promptly at 6PM
DESCRIPTION:We will be closing promptly at 6pm for private event May 21!
URL:https://pheasanthollowwines.com/event/closing-promptly-at-6pm-2/
LOCATION:Pheasant Hollow Winery\, 14931 State Highway 37\, Whittington\, IL\, 62897\, United States
ORGANIZER;CN="Cassandra Cooley":MAILTO:cassweeksphw@gmail.com
END:VEVENT
END:VCALENDAR