BEGIN:VCALENDAR
VERSION:2.0
PRODID:-//Pheasant Hollow Wines - ECPv6.15.11//NONSGML v1.0//EN
CALSCALE:GREGORIAN
METHOD:PUBLISH
X-WR-CALNAME:Pheasant Hollow Wines
X-ORIGINAL-URL:https://pheasanthollowwines.com
X-WR-CALDESC:Events for Pheasant Hollow Wines
REFRESH-INTERVAL;VALUE=DURATION:PT1H
X-Robots-Tag:noindex
X-PUBLISHED-TTL:PT1H
BEGIN:VTIMEZONE
TZID:UTC
BEGIN:STANDARD
TZOFFSETFROM:+0000
TZOFFSETTO:+0000
TZNAME:UTC
DTSTART:20240101T000000
END:STANDARD
END:VTIMEZONE
BEGIN:VEVENT
DTSTART;TZID=UTC:20251101T120000
DTEND;TZID=UTC:20251101T180000
DTSTAMP:20260423T130846
CREATED:20251023T172936Z
LAST-MODIFIED:20251023T172936Z
UID:1525-1761998400-1762020000@pheasanthollowwines.com
SUMMARY:Smack Burger Food Stand (cash only)
DESCRIPTION:
URL:https://pheasanthollowwines.com/event/smack-burger-food-stand-cash-only/
LOCATION:Pheasant Hollow Winery\, 14931 State Highway 37\, Whittington\, IL\, 62897\, United States
END:VEVENT
BEGIN:VEVENT
DTSTART;TZID=UTC:20251101T190000
DTEND;TZID=UTC:20251101T220000
DTSTAMP:20260423T130846
CREATED:20251002T015640Z
LAST-MODIFIED:20251009T194152Z
UID:1516-1762023600-1762034400@pheasanthollowwines.com
SUMMARY:Slay It Again Sam Murder Mystery Dinner 11/01
DESCRIPTION:“Here’s looking at murder\, kid.” Who can be trusted at Rick’s Cafe? No one\, if they’re all out to steal the Maltese Chicken. \n \nCall today to reserve your seats for this months dinner theater. 618-629-2302. Doors open at 6pm\, show starts at 7pm. 18 and older welcome. Tickets are $55 plus tax.Doors open at 6pm\,show starts at 7pm!
URL:https://pheasanthollowwines.com/event/slay-it-again-sam-murder-mystery-dinner-11-02/
LOCATION:Pheasant Hollow Winery\, 14931 State Highway 37\, Whittington\, IL\, 62897\, United States
END:VEVENT
END:VCALENDAR