BEGIN:VCALENDAR
VERSION:2.0
PRODID:-//Pheasant Hollow Wines - ECPv6.15.11//NONSGML v1.0//EN
CALSCALE:GREGORIAN
METHOD:PUBLISH
X-WR-CALNAME:Pheasant Hollow Wines
X-ORIGINAL-URL:https://pheasanthollowwines.com
X-WR-CALDESC:Events for Pheasant Hollow Wines
REFRESH-INTERVAL;VALUE=DURATION:PT1H
X-Robots-Tag:noindex
X-PUBLISHED-TTL:PT1H
BEGIN:VTIMEZONE
TZID:UTC
BEGIN:STANDARD
TZOFFSETFROM:+0000
TZOFFSETTO:+0000
TZNAME:UTC
DTSTART:20240101T000000
END:STANDARD
END:VTIMEZONE
BEGIN:VEVENT
DTSTART;TZID=UTC:20251031T160000
DTEND;TZID=UTC:20251031T200000
DTSTAMP:20260423T130845
CREATED:20251002T014929Z
LAST-MODIFIED:20251023T174819Z
UID:1512-1761926400-1761940800@pheasanthollowwines.com
SUMMARY:Smack Burger Food Truck 10/31-11/01
DESCRIPTION:Cash Only
URL:https://pheasanthollowwines.com/event/smackburger-food-truck-6/
LOCATION:Pheasant Hollow Winery\, 14931 State Highway 37\, Whittington\, IL\, 62897\, United States
END:VEVENT
BEGIN:VEVENT
DTSTART;TZID=UTC:20251031T190000
DTEND;TZID=UTC:20251031T220000
DTSTAMP:20260423T130845
CREATED:20251002T014817Z
LAST-MODIFIED:20251002T014817Z
UID:1510-1761937200-1761948000@pheasanthollowwines.com
SUMMARY:Karaoke Night with DJ Dustin
DESCRIPTION:
URL:https://pheasanthollowwines.com/event/karaoke-night-with-dj-dustin-8/
LOCATION:Pheasant Hollow Winery\, 14931 State Highway 37\, Whittington\, IL\, 62897\, United States
END:VEVENT
END:VCALENDAR