BEGIN:VCALENDAR
VERSION:2.0
PRODID:-//Pheasant Hollow Wines - ECPv6.15.11//NONSGML v1.0//EN
CALSCALE:GREGORIAN
METHOD:PUBLISH
X-ORIGINAL-URL:https://pheasanthollowwines.com
X-WR-CALDESC:Events for Pheasant Hollow Wines
REFRESH-INTERVAL;VALUE=DURATION:PT1H
X-Robots-Tag:noindex
X-PUBLISHED-TTL:PT1H
BEGIN:VTIMEZONE
TZID:UTC
BEGIN:STANDARD
TZOFFSETFROM:+0000
TZOFFSETTO:+0000
TZNAME:UTC
DTSTART:20240101T000000
END:STANDARD
END:VTIMEZONE
BEGIN:VEVENT
DTSTART;TZID=UTC:20251017T160000
DTEND;TZID=UTC:20251017T203000
DTSTAMP:20260423T155911
CREATED:20251002T012021Z
LAST-MODIFIED:20251002T012021Z
UID:1488-1760716800-1760733000@pheasanthollowwines.com
SUMMARY:Tater Headz Fry Company 10/17-19
DESCRIPTION:10/17 4pm-8:30pm\n10/18 & 10/19 12pm-6om
URL:https://pheasanthollowwines.com/event/tater-headz-fry-company-10-17-19/
LOCATION:IL
END:VEVENT
BEGIN:VEVENT
DTSTART;TZID=UTC:20251017T190000
DTEND;TZID=UTC:20251017T220000
DTSTAMP:20260423T155911
CREATED:20251002T012857Z
LAST-MODIFIED:20251002T012857Z
UID:1497-1760727600-1760738400@pheasanthollowwines.com
SUMMARY:Live Music with Kyle Mercer
DESCRIPTION:
URL:https://pheasanthollowwines.com/event/live-music-with-kyle-mercer/
LOCATION:Pheasant Hollow Winery\, 14931 State Highway 37\, Whittington\, IL\, 62897\, United States
END:VEVENT
END:VCALENDAR