BEGIN:VCALENDAR
VERSION:2.0
PRODID:-//Pheasant Hollow Wines - ECPv6.15.11//NONSGML v1.0//EN
CALSCALE:GREGORIAN
METHOD:PUBLISH
X-WR-CALNAME:Pheasant Hollow Wines
X-ORIGINAL-URL:https://pheasanthollowwines.com
X-WR-CALDESC:Events for Pheasant Hollow Wines
REFRESH-INTERVAL;VALUE=DURATION:PT1H
X-Robots-Tag:noindex
X-PUBLISHED-TTL:PT1H
BEGIN:VTIMEZONE
TZID:UTC
BEGIN:STANDARD
TZOFFSETFROM:+0000
TZOFFSETTO:+0000
TZNAME:UTC
DTSTART:20240101T000000
END:STANDARD
END:VTIMEZONE
BEGIN:VEVENT
DTSTART;TZID=UTC:20251010T160000
DTEND;TZID=UTC:20251010T200000
DTSTAMP:20260423T155728
CREATED:20251002T010804Z
LAST-MODIFIED:20251002T010804Z
UID:1473-1760112000-1760126400@pheasanthollowwines.com
SUMMARY:SmackBurger Food Truck
DESCRIPTION:
URL:https://pheasanthollowwines.com/event/smackburger-food-truck-5/
LOCATION:Pheasant Hollow Winery\, 14931 State Highway 37\, Whittington\, IL\, 62897\, United States
END:VEVENT
BEGIN:VEVENT
DTSTART;TZID=UTC:20251010T190000
DTEND;TZID=UTC:20251010T220000
DTSTAMP:20260423T155728
CREATED:20251002T010700Z
LAST-MODIFIED:20251002T010700Z
UID:1471-1760122800-1760133600@pheasanthollowwines.com
SUMMARY:Live Music with Radio Days
DESCRIPTION:
URL:https://pheasanthollowwines.com/event/live-music-with-radio-days/
LOCATION:Pheasant Hollow Winery\, 14931 State Highway 37\, Whittington\, IL\, 62897\, United States
END:VEVENT
END:VCALENDAR