BEGIN:VCALENDAR
VERSION:2.0
PRODID:-//Pheasant Hollow Wines - ECPv6.15.11//NONSGML v1.0//EN
CALSCALE:GREGORIAN
METHOD:PUBLISH
X-WR-CALNAME:Pheasant Hollow Wines
X-ORIGINAL-URL:https://pheasanthollowwines.com
X-WR-CALDESC:Events for Pheasant Hollow Wines
REFRESH-INTERVAL;VALUE=DURATION:PT1H
X-Robots-Tag:noindex
X-PUBLISHED-TTL:PT1H
BEGIN:VTIMEZONE
TZID:UTC
BEGIN:STANDARD
TZOFFSETFROM:+0000
TZOFFSETTO:+0000
TZNAME:UTC
DTSTART:20240101T000000
END:STANDARD
END:VTIMEZONE
BEGIN:VEVENT
DTSTART;TZID=UTC:20251005T120000
DTEND;TZID=UTC:20251005T180000
DTSTAMP:20260423T155729
CREATED:20251002T010553Z
LAST-MODIFIED:20251002T010553Z
UID:1469-1759665600-1759687200@pheasanthollowwines.com
SUMMARY:ROCO Pizza
DESCRIPTION:
URL:https://pheasanthollowwines.com/event/roco-pizza/
LOCATION:Pheasant Hollow Winery\, 14931 State Highway 37\, Whittington\, IL\, 62897\, United States
END:VEVENT
BEGIN:VEVENT
DTSTART;TZID=UTC:20251005T140000
DTEND;TZID=UTC:20251005T170000
DTSTAMP:20260423T155729
CREATED:20251002T010514Z
LAST-MODIFIED:20251002T010514Z
UID:1463-1759672800-1759683600@pheasanthollowwines.com
SUMMARY:Live Music with Shannon Arview
DESCRIPTION:
URL:https://pheasanthollowwines.com/event/live-music-with-shannon-arview/
LOCATION:Pheasant Hollow Winery\, 14931 State Highway 37\, Whittington\, IL\, 62897\, United States
END:VEVENT
END:VCALENDAR