BEGIN:VCALENDAR
VERSION:2.0
PRODID:-//Pheasant Hollow Wines - ECPv6.15.11//NONSGML v1.0//EN
CALSCALE:GREGORIAN
METHOD:PUBLISH
X-WR-CALNAME:Pheasant Hollow Wines
X-ORIGINAL-URL:https://pheasanthollowwines.com
X-WR-CALDESC:Events for Pheasant Hollow Wines
REFRESH-INTERVAL;VALUE=DURATION:PT1H
X-Robots-Tag:noindex
X-PUBLISHED-TTL:PT1H
BEGIN:VTIMEZONE
TZID:UTC
BEGIN:STANDARD
TZOFFSETFROM:+0000
TZOFFSETTO:+0000
TZNAME:UTC
DTSTART:20240101T000000
END:STANDARD
END:VTIMEZONE
BEGIN:VEVENT
DTSTART;TZID=UTC:20250920T120000
DTEND;TZID=UTC:20250920T180000
DTSTAMP:20260423T155732
CREATED:20250902T154927Z
LAST-MODIFIED:20250902T154927Z
UID:1439-1758369600-1758391200@pheasanthollowwines.com
SUMMARY:SmackBurger Food Truck
DESCRIPTION:
URL:https://pheasanthollowwines.com/event/smackburger-food-truck-3/
LOCATION:Pheasant Hollow Winery\, 14931 State Highway 37\, Whittington\, IL\, 62897\, United States
END:VEVENT
END:VCALENDAR