BEGIN:VCALENDAR
VERSION:2.0
PRODID:-//Pheasant Hollow Wines - ECPv6.15.11//NONSGML v1.0//EN
CALSCALE:GREGORIAN
METHOD:PUBLISH
X-WR-CALNAME:Pheasant Hollow Wines
X-ORIGINAL-URL:https://pheasanthollowwines.com
X-WR-CALDESC:Events for Pheasant Hollow Wines
REFRESH-INTERVAL;VALUE=DURATION:PT1H
X-Robots-Tag:noindex
X-PUBLISHED-TTL:PT1H
BEGIN:VTIMEZONE
TZID:UTC
BEGIN:STANDARD
TZOFFSETFROM:+0000
TZOFFSETTO:+0000
TZNAME:UTC
DTSTART:20240101T000000
END:STANDARD
END:VTIMEZONE
BEGIN:VEVENT
DTSTART;TZID=UTC:20250914T120000
DTEND;TZID=UTC:20250914T180000
DTSTAMP:20260423T143511
CREATED:20250902T154348Z
LAST-MODIFIED:20250902T154348Z
UID:1424-1757851200-1757872800@pheasanthollowwines.com
SUMMARY:Simplysoul LLC food truck
DESCRIPTION:
URL:https://pheasanthollowwines.com/event/simplysoul-llc-food-truck/
LOCATION:Pheasant Hollow Winery\, 14931 State Highway 37\, Whittington\, IL\, 62897\, United States
END:VEVENT
BEGIN:VEVENT
DTSTART;TZID=UTC:20250914T140000
DTEND;TZID=UTC:20250914T170000
DTSTAMP:20260423T143511
CREATED:20250902T154202Z
LAST-MODIFIED:20250902T154202Z
UID:1430-1757858400-1757869200@pheasanthollowwines.com
SUMMARY:Live Music with John & Johnny
DESCRIPTION:
URL:https://pheasanthollowwines.com/event/live-music-with-john-johnny/
LOCATION:Pheasant Hollow Winery\, 14931 State Highway 37\, Whittington\, IL\, 62897\, United States
END:VEVENT
END:VCALENDAR