BEGIN:VCALENDAR
VERSION:2.0
PRODID:-//Pheasant Hollow Wines - ECPv6.15.11//NONSGML v1.0//EN
CALSCALE:GREGORIAN
METHOD:PUBLISH
X-ORIGINAL-URL:https://pheasanthollowwines.com
X-WR-CALDESC:Events for Pheasant Hollow Wines
REFRESH-INTERVAL;VALUE=DURATION:PT1H
X-Robots-Tag:noindex
X-PUBLISHED-TTL:PT1H
BEGIN:VTIMEZONE
TZID:UTC
BEGIN:STANDARD
TZOFFSETFROM:+0000
TZOFFSETTO:+0000
TZNAME:UTC
DTSTART:20240101T000000
END:STANDARD
END:VTIMEZONE
BEGIN:VEVENT
DTSTART;TZID=UTC:20250907T120000
DTEND;TZID=UTC:20250907T180000
DTSTAMP:20260423T160109
CREATED:20250902T151128Z
LAST-MODIFIED:20250902T151128Z
UID:1406-1757246400-1757268000@pheasanthollowwines.com
SUMMARY:Taco Queen food truck
DESCRIPTION:
URL:https://pheasanthollowwines.com/event/taco-queen-food-truck-5/
LOCATION:Pheasant Hollow Winery\, 14931 State Highway 37\, Whittington\, IL\, 62897\, United States
END:VEVENT
BEGIN:VEVENT
DTSTART;TZID=UTC:20250907T140000
DTEND;TZID=UTC:20250907T170000
DTSTAMP:20260423T160109
CREATED:20250902T150742Z
LAST-MODIFIED:20250902T150742Z
UID:1402-1757253600-1757264400@pheasanthollowwines.com
SUMMARY:Live Music with Eli Tellor
DESCRIPTION:
URL:https://pheasanthollowwines.com/event/live-music-with-eli-tellor/
LOCATION:Pheasant Hollow Winery\, 14931 State Highway 37\, Whittington\, IL\, 62897\, United States
END:VEVENT
END:VCALENDAR