BEGIN:VCALENDAR
VERSION:2.0
PRODID:-//Pheasant Hollow Wines - ECPv6.15.11//NONSGML v1.0//EN
CALSCALE:GREGORIAN
METHOD:PUBLISH
X-ORIGINAL-URL:https://pheasanthollowwines.com
X-WR-CALDESC:Events for Pheasant Hollow Wines
REFRESH-INTERVAL;VALUE=DURATION:PT1H
X-Robots-Tag:noindex
X-PUBLISHED-TTL:PT1H
BEGIN:VTIMEZONE
TZID:UTC
BEGIN:STANDARD
TZOFFSETFROM:+0000
TZOFFSETTO:+0000
TZNAME:UTC
DTSTART:20240101T000000
END:STANDARD
END:VTIMEZONE
BEGIN:VEVENT
DTSTART;TZID=UTC:20250831T140000
DTEND;TZID=UTC:20250831T170000
DTSTAMP:20260423T113757
CREATED:20250822T234929Z
LAST-MODIFIED:20250822T234929Z
UID:1386-1756648800-1756659600@pheasanthollowwines.com
SUMMARY:Live Music with Bill Harper
DESCRIPTION:
URL:https://pheasanthollowwines.com/event/live-music-with-bill-harper/
LOCATION:Pheasant Hollow Winery\, 14931 State Highway 37\, Whittington\, IL\, 62897\, United States
END:VEVENT
END:VCALENDAR