BEGIN:VCALENDAR
VERSION:2.0
PRODID:-//Pheasant Hollow Wines - ECPv6.15.11//NONSGML v1.0//EN
CALSCALE:GREGORIAN
METHOD:PUBLISH
X-WR-CALNAME:Pheasant Hollow Wines
X-ORIGINAL-URL:https://pheasanthollowwines.com
X-WR-CALDESC:Events for Pheasant Hollow Wines
REFRESH-INTERVAL;VALUE=DURATION:PT1H
X-Robots-Tag:noindex
X-PUBLISHED-TTL:PT1H
BEGIN:VTIMEZONE
TZID:UTC
BEGIN:STANDARD
TZOFFSETFROM:+0000
TZOFFSETTO:+0000
TZNAME:UTC
DTSTART:20240101T000000
END:STANDARD
END:VTIMEZONE
BEGIN:VEVENT
DTSTART;TZID=UTC:20250801T160000
DTEND;TZID=UTC:20250801T200000
DTSTAMP:20260423T124837
CREATED:20250711T174438Z
LAST-MODIFIED:20250711T174438Z
UID:1325-1754064000-1754078400@pheasanthollowwines.com
SUMMARY:SmackBurger Food Truck 8/01-8/03
DESCRIPTION:Aug 1 4pm-8pm\nAug 2 & 3 12-6pm
URL:https://pheasanthollowwines.com/event/smackburger-food-truck-8-01-8-03/
LOCATION:Pheasant Hollow Winery\, 14931 State Highway 37\, Whittington\, IL\, 62897\, United States
END:VEVENT
BEGIN:VEVENT
DTSTART;TZID=UTC:20250801T190000
DTEND;TZID=UTC:20250801T220000
DTSTAMP:20260423T124837
CREATED:20250711T174158Z
LAST-MODIFIED:20250711T185938Z
UID:1322-1754074800-1754085600@pheasanthollowwines.com
SUMMARY:MIlitary Fundraiser & Live Music w/ Cody Galloway
DESCRIPTION:Join us for 3 hours of live music. Grab a bite to eat from SmackBurger food truck and enjoy some of our award-winning wines.\nThere will be a Red Bucket collecting donations for care packages that will be sent to a local unit (Delta Company\, Mount Vernon) who was recently deployed to the middle east! We all love freedom\, let’s support who are actively involved in fighting for the freedom we all experience!
URL:https://pheasanthollowwines.com/event/military-fundraiser-live-music-w-cody-galloway/
LOCATION:Pheasant Hollow Winery\, 14931 State Highway 37\, Whittington\, IL\, 62897\, United States
ORGANIZER;CN="Cassandra Cooley":MAILTO:cassweeksphw@gmail.com
END:VEVENT
END:VCALENDAR