BEGIN:VCALENDAR
VERSION:2.0
PRODID:-//Pheasant Hollow Wines - ECPv6.15.11//NONSGML v1.0//EN
CALSCALE:GREGORIAN
METHOD:PUBLISH
X-ORIGINAL-URL:https://pheasanthollowwines.com
X-WR-CALDESC:Events for Pheasant Hollow Wines
REFRESH-INTERVAL;VALUE=DURATION:PT1H
X-Robots-Tag:noindex
X-PUBLISHED-TTL:PT1H
BEGIN:VTIMEZONE
TZID:UTC
BEGIN:STANDARD
TZOFFSETFROM:+0000
TZOFFSETTO:+0000
TZNAME:UTC
DTSTART:20240101T000000
END:STANDARD
END:VTIMEZONE
BEGIN:VEVENT
DTSTART;TZID=UTC:20250725T160000
DTEND;TZID=UTC:20250725T203000
DTSTAMP:20260423T125034
CREATED:20250629T194842Z
LAST-MODIFIED:20250721T153339Z
UID:1282-1753459200-1753475400@pheasanthollowwines.com
SUMMARY:Chi-Town Pizza & Grub 7/25-7/27
DESCRIPTION:7/25 4-8pm\n7/26 & 7/27 12-6pm
URL:https://pheasanthollowwines.com/event/chi-town-pizza-grub-2/
LOCATION:Pheasant Hollow Winery\, 14931 State Highway 37\, Whittington\, IL\, 62897\, United States
END:VEVENT
BEGIN:VEVENT
DTSTART;TZID=UTC:20250725T190000
DTEND;TZID=UTC:20250725T220000
DTSTAMP:20260423T125034
CREATED:20250629T194940Z
LAST-MODIFIED:20250629T194940Z
UID:1284-1753470000-1753480800@pheasanthollowwines.com
SUMMARY:Karaoke Night with DJ Dustin
DESCRIPTION:
URL:https://pheasanthollowwines.com/event/karaoke-night-with-dj-dustin-7/
LOCATION:Pheasant Hollow Winery\, 14931 State Highway 37\, Whittington\, IL\, 62897\, United States
END:VEVENT
END:VCALENDAR