BEGIN:VCALENDAR
VERSION:2.0
PRODID:-//Pheasant Hollow Wines - ECPv6.15.11//NONSGML v1.0//EN
CALSCALE:GREGORIAN
METHOD:PUBLISH
X-ORIGINAL-URL:https://pheasanthollowwines.com
X-WR-CALDESC:Events for Pheasant Hollow Wines
REFRESH-INTERVAL;VALUE=DURATION:PT1H
X-Robots-Tag:noindex
X-PUBLISHED-TTL:PT1H
BEGIN:VTIMEZONE
TZID:UTC
BEGIN:STANDARD
TZOFFSETFROM:+0000
TZOFFSETTO:+0000
TZNAME:UTC
DTSTART:20240101T000000
END:STANDARD
END:VTIMEZONE
BEGIN:VEVENT
DTSTART;TZID=UTC:20250711T150000
DTEND;TZID=UTC:20250711T200000
DTSTAMP:20260423T125034
CREATED:20250629T194130Z
LAST-MODIFIED:20250629T194130Z
UID:1272-1752246000-1752264000@pheasanthollowwines.com
SUMMARY:Bella's Concession Stand
DESCRIPTION:
URL:https://pheasanthollowwines.com/event/bellas-concession-stand/
LOCATION:Pheasant Hollow Winery\, 14931 State Highway 37\, Whittington\, IL\, 62897\, United States
END:VEVENT
BEGIN:VEVENT
DTSTART;TZID=UTC:20250711T190000
DTEND;TZID=UTC:20250711T220000
DTSTAMP:20260423T125034
CREATED:20250629T194035Z
LAST-MODIFIED:20250629T194035Z
UID:1270-1752260400-1752271200@pheasanthollowwines.com
SUMMARY:Radio Days
DESCRIPTION:
URL:https://pheasanthollowwines.com/event/radio-days/
LOCATION:Pheasant Hollow Winery\, 14931 State Highway 37\, Whittington\, IL\, 62897\, United States
ORGANIZER;CN="Cassandra Cooley":MAILTO:cassweeksphw@gmail.com
END:VEVENT
END:VCALENDAR