BEGIN:VCALENDAR
VERSION:2.0
PRODID:-//Pheasant Hollow Wines - ECPv6.15.11//NONSGML v1.0//EN
CALSCALE:GREGORIAN
METHOD:PUBLISH
X-ORIGINAL-URL:https://pheasanthollowwines.com
X-WR-CALDESC:Events for Pheasant Hollow Wines
REFRESH-INTERVAL;VALUE=DURATION:PT1H
X-Robots-Tag:noindex
X-PUBLISHED-TTL:PT1H
BEGIN:VTIMEZONE
TZID:UTC
BEGIN:STANDARD
TZOFFSETFROM:+0000
TZOFFSETTO:+0000
TZNAME:UTC
DTSTART:20240101T000000
END:STANDARD
END:VTIMEZONE
BEGIN:VEVENT
DTSTART;TZID=UTC:20250627T160000
DTEND;TZID=UTC:20250627T200000
DTSTAMP:20260423T181208
CREATED:20250530T000725Z
LAST-MODIFIED:20250530T000725Z
UID:1243-1751040000-1751054400@pheasanthollowwines.com
SUMMARY:Billy Bob's BBQ food truck
DESCRIPTION:
URL:https://pheasanthollowwines.com/event/billy-bobs-bbq-food-truck/
LOCATION:Pheasant Hollow Winery\, 14931 State Highway 37\, Whittington\, IL\, 62897\, United States
ORGANIZER;CN="Cassandra Cooley":MAILTO:cassweeksphw@gmail.com
END:VEVENT
BEGIN:VEVENT
DTSTART;TZID=UTC:20250627T190000
DTEND;TZID=UTC:20250627T220000
DTSTAMP:20260423T181208
CREATED:20250530T000608Z
LAST-MODIFIED:20250530T000608Z
UID:1241-1751050800-1751061600@pheasanthollowwines.com
SUMMARY:Music with DJ Dustin/Karaoke NIght
DESCRIPTION:
URL:https://pheasanthollowwines.com/event/music-with-dj-dustin-karaoke-night/
LOCATION:Pheasant Hollow Winery\, 14931 State Highway 37\, Whittington\, IL\, 62897\, United States
END:VEVENT
END:VCALENDAR