BEGIN:VCALENDAR
VERSION:2.0
PRODID:-//Pheasant Hollow Wines - ECPv6.15.11//NONSGML v1.0//EN
CALSCALE:GREGORIAN
METHOD:PUBLISH
X-WR-CALNAME:Pheasant Hollow Wines
X-ORIGINAL-URL:https://pheasanthollowwines.com
X-WR-CALDESC:Events for Pheasant Hollow Wines
REFRESH-INTERVAL;VALUE=DURATION:PT1H
X-Robots-Tag:noindex
X-PUBLISHED-TTL:PT1H
BEGIN:VTIMEZONE
TZID:UTC
BEGIN:STANDARD
TZOFFSETFROM:+0000
TZOFFSETTO:+0000
TZNAME:UTC
DTSTART:20240101T000000
END:STANDARD
END:VTIMEZONE
BEGIN:VEVENT
DTSTART;TZID=UTC:20250614T190000
DTEND;TZID=UTC:20250614T220000
DTSTAMP:20260424T132847
CREATED:20250529T235936Z
LAST-MODIFIED:20250529T235936Z
UID:1226-1749927600-1749938400@pheasanthollowwines.com
SUMMARY:June Murder Mystery Murder on the Disoriented Express
DESCRIPTION:There’s been a murder on the Disoriented Express\, and the best criminal minds have been called in to help — Sherlock Holmes\, Lieutenant Columbo\, Charlie’s Angels and Batman. Will they solve the crime first\, or will you?\nCall today to reserve your seats for this months dinner theater. 618-629-2302. Doors open at 6pm\, show starts at 7pm. 18 and older welcome Tickets are $55 plus tax.Doors open at 6pm\,show starts at 7pm!
URL:https://pheasanthollowwines.com/event/june-murder-mystery-murder-on-the-disoriented-express/
LOCATION:Pheasant Hollow Winery\, 14931 State Highway 37\, Whittington\, IL\, 62897\, United States
END:VEVENT
END:VCALENDAR