BEGIN:VCALENDAR
VERSION:2.0
PRODID:-//Pheasant Hollow Wines - ECPv6.15.11//NONSGML v1.0//EN
CALSCALE:GREGORIAN
METHOD:PUBLISH
X-ORIGINAL-URL:https://pheasanthollowwines.com
X-WR-CALDESC:Events for Pheasant Hollow Wines
REFRESH-INTERVAL;VALUE=DURATION:PT1H
X-Robots-Tag:noindex
X-PUBLISHED-TTL:PT1H
BEGIN:VTIMEZONE
TZID:UTC
BEGIN:STANDARD
TZOFFSETFROM:+0000
TZOFFSETTO:+0000
TZNAME:UTC
DTSTART:20240101T000000
END:STANDARD
END:VTIMEZONE
BEGIN:VEVENT
DTSTART;TZID=UTC:20250613T160000
DTEND;TZID=UTC:20250613T203000
DTSTAMP:20260424T150453
CREATED:20250529T235411Z
LAST-MODIFIED:20250529T235411Z
UID:1222-1749830400-1749846600@pheasanthollowwines.com
SUMMARY:SmackBurger food truck 6/13-6/15
DESCRIPTION:6/13 4pm-8:30pm\n6/14 & 6/15 12pm-6pm
URL:https://pheasanthollowwines.com/event/smackburger-food-truck-6-13-6-15/
LOCATION:Pheasant Hollow Winery\, 14931 State Highway 37\, Whittington\, IL\, 62897\, United States
ORGANIZER;CN="Cassandra Cooley":MAILTO:cassweeksphw@gmail.com
END:VEVENT
BEGIN:VEVENT
DTSTART;TZID=UTC:20250613T190000
DTEND;TZID=UTC:20250613T220000
DTSTAMP:20260424T150453
CREATED:20250529T235226Z
LAST-MODIFIED:20250529T235226Z
UID:1220-1749841200-1749852000@pheasanthollowwines.com
SUMMARY:Music with Cody Galloway
DESCRIPTION:
URL:https://pheasanthollowwines.com/event/music-with-cody-galloway-2/
LOCATION:Pheasant Hollow Winery\, 14931 State Highway 37\, Whittington\, IL\, 62897\, United States
END:VEVENT
END:VCALENDAR