BEGIN:VCALENDAR
VERSION:2.0
PRODID:-//Pheasant Hollow Wines - ECPv6.15.11//NONSGML v1.0//EN
CALSCALE:GREGORIAN
METHOD:PUBLISH
X-ORIGINAL-URL:https://pheasanthollowwines.com
X-WR-CALDESC:Events for Pheasant Hollow Wines
REFRESH-INTERVAL;VALUE=DURATION:PT1H
X-Robots-Tag:noindex
X-PUBLISHED-TTL:PT1H
BEGIN:VTIMEZONE
TZID:UTC
BEGIN:STANDARD
TZOFFSETFROM:+0000
TZOFFSETTO:+0000
TZNAME:UTC
DTSTART:20240101T000000
END:STANDARD
END:VTIMEZONE
BEGIN:VEVENT
DTSTART;TZID=UTC:20250607T120000
DTEND;TZID=UTC:20250607T180000
DTSTAMP:20260424T232924
CREATED:20250529T234523Z
LAST-MODIFIED:20250529T234523Z
UID:1207-1749297600-1749319200@pheasanthollowwines.com
SUMMARY:SimpleySoul\,LLC food truck
DESCRIPTION:
URL:https://pheasanthollowwines.com/event/simpleysoulllc-food-truck/
LOCATION:Pheasant Hollow Winery\, 14931 State Highway 37\, Whittington\, IL\, 62897\, United States
END:VEVENT
BEGIN:VEVENT
DTSTART;TZID=UTC:20250607T140000
DTEND;TZID=UTC:20250607T170000
DTSTAMP:20260424T232924
CREATED:20250529T234431Z
LAST-MODIFIED:20250529T234431Z
UID:1204-1749304800-1749315600@pheasanthollowwines.com
SUMMARY:Music by Poets & Madmen
DESCRIPTION:
URL:https://pheasanthollowwines.com/event/music-by-poets-madmen/
LOCATION:Pheasant Hollow Winery\, 14931 State Highway 37\, Whittington\, IL\, 62897\, United States
END:VEVENT
END:VCALENDAR