BEGIN:VCALENDAR
VERSION:2.0
PRODID:-//Pheasant Hollow Wines - ECPv6.15.11//NONSGML v1.0//EN
CALSCALE:GREGORIAN
METHOD:PUBLISH
X-WR-CALNAME:Pheasant Hollow Wines
X-ORIGINAL-URL:https://pheasanthollowwines.com
X-WR-CALDESC:Events for Pheasant Hollow Wines
REFRESH-INTERVAL;VALUE=DURATION:PT1H
X-Robots-Tag:noindex
X-PUBLISHED-TTL:PT1H
BEGIN:VTIMEZONE
TZID:UTC
BEGIN:STANDARD
TZOFFSETFROM:+0000
TZOFFSETTO:+0000
TZNAME:UTC
DTSTART:20240101T000000
END:STANDARD
END:VTIMEZONE
BEGIN:VEVENT
DTSTART;TZID=UTC:20250606T160000
DTEND;TZID=UTC:20250606T200000
DTSTAMP:20260425T005752
CREATED:20250529T234320Z
LAST-MODIFIED:20250529T234320Z
UID:1202-1749225600-1749240000@pheasanthollowwines.com
SUMMARY:Smackburger Food truck
DESCRIPTION:
URL:https://pheasanthollowwines.com/event/smackburger-food-truck/
LOCATION:Pheasant Hollow Winery\, 14931 State Highway 37\, Whittington\, IL\, 62897\, United States
END:VEVENT
BEGIN:VEVENT
DTSTART;TZID=UTC:20250606T190000
DTEND;TZID=UTC:20250606T220000
DTSTAMP:20260425T005752
CREATED:20250529T234225Z
LAST-MODIFIED:20250529T234225Z
UID:1200-1749236400-1749247200@pheasanthollowwines.com
SUMMARY:Music with Ian Presswood
DESCRIPTION:🎶 Friday\, June 6th — let’s welcome Ian Presswood to the stage! 🎤 Join us from 6PM–10PM for great music\, wine\, and good vibes! 🍷🎸
URL:https://pheasanthollowwines.com/event/music-with-ian-presswood-3/
LOCATION:Pheasant Hollow Winery\, 14931 State Highway 37\, Whittington\, IL\, 62897\, United States
END:VEVENT
END:VCALENDAR